BEGIN:VCALENDAR
VERSION:2.0
PRODID:http://www.fbs-saarlouis.de
BEGIN:VEVENT
UID:8925ded4-d60b-11f0-96e0-0242ac11002b-1777104000000-de
DTSTAMP:20251210T210228Z
DTSTART:20260425T080000Z
DTEND:20260425T140000Z
SUMMARY;LANGUAGE=de:Klar gestellt - systemische Aufstellungsarbeit in Theorie und Praxis
LOCATION;LANGUAGE=de:Katholische Familienbildungsstätte\, Ludwig-Karl-Balzer-Allee 3\, 66740 Saarlouis
END:VEVENT
END:VCALENDAR
