BEGIN:VCALENDAR
VERSION:2.0
PRODID:http://www.fbs-saarlouis.de
BEGIN:VEVENT
UID:23d02236-1bfb-11f1-8342-0242ac11002b-1776863700000-de
DTSTAMP:20260309T210127Z
DTSTART:20260422T131500Z
DTEND:20260422T140000Z
SUMMARY;LANGUAGE=de:Musikgarten Phase 1 - "Wir machen Musik" für Kinder von 18 Mon.- 3 Jahren 
DESCRIPTION;LANGUAGE=de:"Wir machen Musik"
LOCATION;LANGUAGE=de:Mehrgenerationenhaus "Miteinander der Generationen"\, Konrad-Adenauer-Allee 138\, 66740 Saarlouis-Steinrausch
END:VEVENT
END:VCALENDAR
